BEGIN:VCALENDAR
VERSION:2.0
PRODID:Events Booking
BEGIN:VEVENT
UID:69e4c9d4cd84e
SUMMARY:Lucia möte \" EU peaks - det ultimata äventyret\"
DESCRIPTION:Äventyraren och fotografen Jarda Zaoral har på 88 dagar besö
 kt 28 länder\, 27 berg och avverkat över 25.000höjdmeter\, på sin resa
  att bestiga de högsta topparna i varje EU-land.
DTSTART:20181204T180000Z
DTSTAMP:20260419T142556Z
ORGANIZER;CN=Svenska Fjällklubben:MAILTO:joomla@fjallklubben.se
END:VEVENT
END:VCALENDAR