BEGIN:VCALENDAR
VERSION:2.0
PRODID:Events Booking
BEGIN:VEVENT
UID:69e4c6050da6c
SUMMARY:Luciafirande
DESCRIPTION:Hjärtligt välkommen till vårt Luciafirande
 Stockholmssekti
 onen bjuder på varma drycker och goda tillbehör.&nbsp\; Vi kommer under 
 kvällen att få ta del av några historiska återblickar och vad som kan 
 väntas framöver.&nbsp\;
DTSTART:20211208T180000Z
DTEND:20211208T210000Z
DTSTAMP:20211201T060210Z
ORGANIZER;CN=Svenska Fjällklubben:MAILTO:joomla@fjallklubben.se
END:VEVENT
END:VCALENDAR