BEGIN:VCALENDAR
VERSION:2.0
PRODID:Events Booking
BEGIN:VEVENT
UID:69e4c97d055ac
SUMMARY:Luciaträffen - Vandring i Georgien - OBS!!! inställt pga covid19 
DESCRIPTION:!!! Föreläsningen kommer att flyttas till senare under 2021. 
 Mer information kommer så fort vi fastställer ett nytt datum !!!
 Sekti
 onsmedlemmar berättar och visar bilder från en vandring i Georgien\, i s
 eptember 2019.Därefter blir det traditionellt Luciafirande med struvor\, 
 glögg\,&nbsp\; pepparkakor och annat gott...Väl mött på Östermalmsgat
 an 68\, måndagen 7 december\, kl 19.00
 Beroende på Folkhälsomyndighet
 ens rekommendationer kan mötet flyttas/ställas in\, aktuell information 
 här på hemsidan.
 &nbsp\;
DTSTART:20201207T180000Z
DTEND:20201207T203000Z
DTSTAMP:20260419T142429Z
ORGANIZER;CN=Svenska Fjällklubben:MAILTO:joomla@fjallklubben.se
END:VEVENT
END:VCALENDAR