BEGIN:VCALENDAR
VERSION:2.0
PRODID:Events Booking
BEGIN:VEVENT
UID:69e4c8a0b2c0c
SUMMARY:Navigate with map and compass
DESCRIPTION:Welcome to freshen up your skills using a map and compass. The 
 target audience stretches from beginners to the ones who want to revive th
 eir knowledge. Location: Johannesfredsväg 7\, Bromma. (Tvärbanan: Johann
 esfred.)&nbsp\; Date: Wednesday april 10\, time 6.30 - 8.30 pm. This activ
 ity is free of charge\, both for members and others. Please confirm your p
 articipation in the facebook event.
DTSTART:20190410T163000Z
DTEND:20190410T183000Z
DTSTAMP:20260419T142048Z
ORGANIZER;CN=Svenska Fjällklubben:MAILTO:joomla@fjallklubben.se
END:VEVENT
END:VCALENDAR