BEGIN:VCALENDAR
VERSION:2.0
PRODID:Events Booking
BEGIN:VEVENT
UID:69e4ca3d9cddb
SUMMARY:Navigation med karta och kompass på Skinnarviksberget
DESCRIPTION:Fjällklubben välkomnar dig till en afton för uppfräschande 
 studier i navigation\, tisdagen 17/9 - kl 17.00-19.00.Plats: Toppen av Ski
 nnarviksberget\, Södermalm\, T-Zinkensdamm.Notera: Obligatorisk anmälan 
 via facebook-eventet eller 070-2673 282.Aktiviteten är kostnadsfri både 
 för medlemmar och andra deltagare.
DTSTART:20190917T150000Z
DTEND:20190917T170000Z
DTSTAMP:20260419T142741Z
ORGANIZER;CN=Svenska Fjällklubben:MAILTO:joomla@fjallklubben.se
END:VEVENT
END:VCALENDAR