BEGIN:VCALENDAR
VERSION:2.0
PRODID:Events Booking
BEGIN:VEVENT
UID:69e4c97728b46
SUMMARY:Navigation med karta och kompass
DESCRIPTION:Välkommen till en möjlighet att fräscha upp dina kunskaper i
  karta och kompass. Denna sammankomst är tänkt att passa både nybörjar
 en\, och de som känner behov av att uppdatera sig. Plats: Klubblokalen\, 
 Johannesfredsväg. 7\, Bromma. Tvärbanan: Johannesfred. Tid: Tisdag 9/4\,
  kl 18.30. Anmäl gärna ditt deltagande via facebook-eventet.
DTSTART:20190409T163000Z
DTEND:20190409T183000Z
DTSTAMP:20260419T142423Z
ORGANIZER;CN=Svenska Fjällklubben:MAILTO:joomla@fjallklubben.se
END:VEVENT
END:VCALENDAR