BEGIN:VCALENDAR
VERSION:2.0
PRODID:Events Booking
BEGIN:VEVENT
UID:69e74877773e3
SUMMARY:Pubhäng\, en social kväll för fjällfolk
DESCRIPTION:I ett kravlöst socialt sammanhang välkomnar vi både yngre oc
 h äldre medlemmar torsdag 5/3 från kl. 17.30 och framåt.Vi träffas på
 &nbsp\;John Scotts Pub på Kungsgatan 37.
 Om du har en kompis som inte 
 är medlem i Fjällklubben men nyfiken på vad det är för något\, ta me
 d henne eller honom till denna kväll. Självklart finns det även läsk o
 ch alkoholfritt på puben.
 Välkommen!//Styrelsen SFK Stockholm
DTSTART:20260305T163000Z
DTSTAMP:20260123T083133Z
ORGANIZER;CN=Svenska Fjällklubben:MAILTO:joomla@fjallklubben.se
END:VEVENT
END:VCALENDAR