BEGIN:VCALENDAR
VERSION:2.0
PRODID:Events Booking
BEGIN:VEVENT
UID:69e747f404088
SUMMARY:Pubhäng\, en social kväll för fjällfolk
DESCRIPTION:Höstens första aktivitet! Den berömda pubkvällen.
 Vi väl
 komnar både yngre och äldre medlemmar onsdag 3/9 från kl. 17.30 och fra
 måt.&nbsp\;Vi träffas på John-Scotts pub på Kungsgatan.
 /Styrelsen
DTSTART:20250903T153000Z
DTSTAMP:20250731T091740Z
ORGANIZER;CN=Svenska Fjällklubben:MAILTO:joomla@fjallklubben.se
END:VEVENT
END:VCALENDAR