BEGIN:VCALENDAR
VERSION:2.0
PRODID:Events Booking
BEGIN:VEVENT
UID:69e73414c44e7
SUMMARY:Pubkväll med sommartema
DESCRIPTION:Dags för nästa pubkväll! Denna gången med tema “sommarvan
 dringar”!
 Vill du hitta vandringssällskap? Få tips och tricks av and
 ra inför din redan planerade tur? Eller inspireras inför kommande vandri
 ngssäsong?
 Kom till John Scotts på KUNGSGATAN 37 denna gång. Ta gärn
 a med kartor\, guideböcker\, bilder och dina drömmar om sommarens vandri
 ngar. Dela med dig eller ta del av tips och idéer under en trevlig kväll
 .
 Bara att svänga förbi när du är klar med dagens uppgifter!
DTSTART:20250403T153000Z
DTSTAMP:20250322T192803Z
ORGANIZER;CN=Svenska Fjällklubben:MAILTO:joomla@fjallklubben.se
END:VEVENT
END:VCALENDAR