BEGIN:VCALENDAR
VERSION:2.0
PRODID:Events Booking
BEGIN:VEVENT
UID:69e4c9f0af783
SUMMARY:Rätt sätt på fjället - vinter
DESCRIPTION:Innekväll som vänder sig till fjällfarare som inte varit i f
 jällen på vintern så mycket\, eller som planerar sin första fjälltur.
  Kunskap för en vintertur.
DTSTART:20181121T180000Z
DTSTAMP:20260419T142624Z
ORGANIZER;CN=Svenska Fjällklubben:MAILTO:joomla@fjallklubben.se
END:VEVENT
END:VCALENDAR