BEGIN:VCALENDAR
VERSION:2.0
PRODID:Events Booking
BEGIN:VEVENT
UID:69e4c9ac8c4a5
SUMMARY:\"Rätt sätt på fjället\" - vinter
DESCRIPTION:Behöver du tips inför din första vinterfjälltur\, eller vil
 l du fräscha upp dina kunskaper? Då passar vår innekvällsom vänder si
 g till fjällfarare som har begränsad erfarenhet av vinterfjället\, och 
 planerar att göra sin första tur.&nbsp\;Välkommen till klubbrummet\, on
 sdag 27/11 kl.19.00. Info/anmälan till simona.hoglund@gmail.com. Föranm
 ä-lan inget krav\, men är alltid trevligt. Öppet även för icke-medlem
 mar.
DTSTART:20191127T180000Z
DTEND:20191127T200000Z
DTSTAMP:20260419T142516Z
ORGANIZER;CN=Svenska Fjällklubben:MAILTO:joomla@fjallklubben.se
END:VEVENT
END:VCALENDAR