BEGIN:VCALENDAR
VERSION:2.0
PRODID:Events Booking
BEGIN:VEVENT
UID:69e4c91043e74
SUMMARY:Runes underjordiska verksamhet
DESCRIPTION:Rune Magnusson är speleolog - vilket innebär att han gillar a
 tt besöka grottor. Rune berättar och visar bilder om sina många personl
 iga besök i de flesta av fjällvärldens kalkområden\, där det finns gr
 ottor. Dessa besök sker ofta i samband med Speleoloförbundets fjällmöt
 en.
DTSTART:20181115T180000Z
DTSTAMP:20260419T142240Z
ORGANIZER;CN=Svenska Fjällklubben:MAILTO:joomla@fjallklubben.se
END:VEVENT
END:VCALENDAR