BEGIN:VCALENDAR
VERSION:2.0
PRODID:Events Booking
BEGIN:VEVENT
UID:69e75998dee05
SUMMARY:Sommarträff på Blå porten
DESCRIPTION:Välkommen på Stockholmssektionens sommarträff på Blå Porte
 n!Nu är det dags för en av sektionens återkommande aktiviteter. I ett t
 revligt socialt sammanhang välkomnar vi både yngre och äldre medlemmar.
  Vi träffas på&nbsp\; &nbsp\;Restaurang Blå Porten\, Djurgårdsvägen 6
 4 onsdagen den 11 juni från kl. 17.00 och framåt.Om du har en kompis som
  inte är medlem i Fjällklubben\, men som är nyfiken på vad det är fö
 r något\, ta med henne eller honom till denna kväll. Var och en står f
 ör sin egna mat och dryck\, självklart finns det även läsk och alkohol
 fritt på resturangen.Vid bra väder har vi bokat utesittplatser.Den här 
 gången får du gärna anmäla dig så vi har koll på antalet platser på
  restaurangen\, om det blir mycket populärt :)
 Anmälan via länk:&nbsp
 \;https://forms.gle/UzxX41BEeiwSH9mF7
 Hjärtligt välkomna!//Stockholmss
 ektionens styrelse
DTSTART:20260611T150000Z
DTSTAMP:20260407T171028Z
ORGANIZER;CN=Svenska Fjällklubben:MAILTO:joomla@fjallklubben.se
END:VEVENT
END:VCALENDAR