BEGIN:VCALENDAR
VERSION:2.0
PRODID:Events Booking
BEGIN:VEVENT
UID:69e734902400b
SUMMARY:Säsongsavslutning på Blå porten
DESCRIPTION:Välkommen till Stockholmssektionens säsongsavslutning på Bl
 å Porten!
 Bord är bokat för 25 personer tisdagen den 10 juni kl 17.30
  – 20.00.&nbsp\;Vi har bokat bord utomhus för att inte störas av den h
 öga ljudnivån som kan vara inne. Ta med en extra tröja.
 Du betalar sj
 älv för önskad mat och dryck.
 Anmälan sker via nedanstående länk.&
 nbsp\;Först till kvarn gäller.
 https://forms.gle/zwVf7anhYvENBcC27
 H
 järtligt välkomna!//Stockholmssektionens styrelse
 .
DTSTART:20250610T153000Z
DTSTAMP:20250507T125710Z
ORGANIZER;CN=Svenska Fjällklubben:MAILTO:joomla@fjallklubben.se
END:VEVENT
END:VCALENDAR