BEGIN:VCALENDAR
VERSION:2.0
PRODID:Events Booking
BEGIN:VEVENT
UID:69e4c91044086
SUMMARY:Sarek - min första vintertur
DESCRIPTION:Som elev på Adventure academy skulle Stina Andersson göra ett
  äventyr på minst två veckor. Det bleven tälttur i Sarek i april 2019.
  Kom till årets första inomhuskväll på klubbrummet\, tisdagen 21/1 kl.
  19.00för att lyssna på Stinas berättelse\, njut av hennes bilder\, och
  låt dig inspireras för ditt eget vinteräventyr.
DTSTART:20200121T180000Z
DTEND:20200121T200000Z
DTSTAMP:20260419T142240Z
ORGANIZER;CN=Svenska Fjällklubben:MAILTO:joomla@fjallklubben.se
END:VEVENT
END:VCALENDAR