BEGIN:VCALENDAR
VERSION:2.0
PRODID:Events Booking
BEGIN:VEVENT
UID:69e73391a89f4
SUMMARY:Utskärgårdsturen 2025
DESCRIPTION:Vi ser fram emot att även detta år få göra vår traditionel
 la tälttur\, någonstansbland de yttersta skären i Stockholms skärgård
 .Det blir två nätter i egna tält\, fre-sön 23-25 maj. Vi vet ännu int
 e var vi kommer att hamna - men garanterad havsutsikt kan utlovas…Som al
 ltid i ytterskärgården är det mycket väderberoende vart vi kan åka\, 
 så oftabestäms resmålet bara 1-2 dygn innan avresa
 FULLBOKAD! Väntel
 ista finns.
DTSTART:20250522T220000Z
DTEND:20250524T220000Z
DTSTAMP:20240926T111911Z
ORGANIZER;CN=Svenska Fjällklubben:MAILTO:joomla@fjallklubben.se
END:VEVENT
END:VCALENDAR