BEGIN:VCALENDAR
VERSION:2.0
PRODID:Events Booking
BEGIN:VEVENT
UID:69e4ca9f1944e
SUMMARY:Skidåkning på hög nivå -bland pingviner\, snöleoparder och kiw
 is - med Mark Sedon
DESCRIPTION:Kom och lyssna samt ta del av en spektakulär bildvisning\, fr
 ån en av Nya Zeelands mest erfarna skid-turare. Från färder på sin ege
 n hemmaplan i bergen på NZ:s sydö\, till skidåkning i fjärran Kashmir 
 i norra Indien\, samt turer med kite-skiing på Antarktis. Mark är en pas
 sionerad och professionell guide med många års resande i bagaget\, på s
 tändig jakt efter nya utmaningar och puderåkning.Föreläsningen är kos
 tnadsfri\, men kräver en skriftlig anmälan\, då det finns ett begränsa
 t antal platser ilokalen. SFK medlemmar har företräde. Anmälan genom ma
 il till: simona.hoglund@gmail.com. Angeom ni har medlemskap i SFK. Förel
 äsningen kommer att hållas på engelska.OBS Plats! Mornington Hotel\, No
 rrbyvägen 30 Bromma.Tid: Onsdagen 11 mars kl 18.30-20.00
 &nbsp\;
 &nbs
 p\;
DTSTART:20200311T173000Z
DTEND:20200311T190000Z
DTSTAMP:20260419T142919Z
ORGANIZER;CN=Svenska Fjällklubben:MAILTO:joomla@fjallklubben.se
END:VEVENT
END:VCALENDAR