BEGIN:VCALENDAR
VERSION:2.0
PRODID:Events Booking
BEGIN:VEVENT
UID:69e7593371816
SUMMARY:Styrelsemöte Stockholm
DESCRIPTION:Du som är medlem\, kontakta gärna oss i Stockholmssektionens 
 styrelse på:stockholmssektionen@fjallklubben.seom du har någon fråga so
 m du vill att vi tar upp.
DTSTART:20260428T163000Z
DTEND:20260428T183000Z
DTSTAMP:20260321T153951Z
ORGANIZER;CN=Svenska Fjällklubben:MAILTO:joomla@fjallklubben.se
END:VEVENT
END:VCALENDAR