BEGIN:VCALENDAR
VERSION:2.0
PRODID:Events Booking
BEGIN:VEVENT
UID:69e4e8cf70add
SUMMARY:Styrelsemöte Stockholm 
DESCRIPTION:Du som är medlem\, kontakta gärna oss i Stockholmssektionens 
 styrelse på:stockholmssektionen@fjallklubben.seom du har någon fråga so
 m du vill att vi tar upp.
DTSTART:20250930T163000Z
DTEND:20250930T183000Z
DTSTAMP:20250610T180428Z
ORGANIZER;CN=Svenska Fjällklubben:MAILTO:joomla@fjallklubben.se
END:VEVENT
END:VCALENDAR