BEGIN:VCALENDAR
VERSION:2.0
PRODID:Events Booking
BEGIN:VEVENT
UID:69e4d29b859e5
SUMMARY:Styrelsemöte Stockholm
DESCRIPTION:Du som är medlem\, kontakta gärna oss i Stockholmssektionens 
 styrelse på:stockholmssektionen@fjallklubben.seom du har någon fråga so
 m du vill att vi tar upp.
DTSTART:20251104T173000Z
DTEND:20251104T193000Z
DTSTAMP:20250610T180541Z
ORGANIZER;CN=Svenska Fjällklubben:MAILTO:joomla@fjallklubben.se
END:VEVENT
END:VCALENDAR