BEGIN:VCALENDAR
VERSION:2.0
PRODID:Events Booking
BEGIN:VEVENT
UID:69e7342ba6756
SUMMARY:Styrelsemöte Stockholm
DESCRIPTION:Du som är medlem\, kontakta gärna oss i Stockholmssektionens 
 styrelse på:stockholmssektionen@fjallklubben.seom du har någon fråga so
 m du vill att vi tar upp.
LOCATION:Johannesfredsvägen 7\, 168 69 Bromma
DTSTART:20250527T163000Z
DTEND:20250527T183000Z
DTSTAMP:20250507T124555Z
ORGANIZER;CN=Svenska Fjällklubben:MAILTO:joomla@fjallklubben.se
GEO:59.343881;17.969462
X-APPLE-STRUCTURED-LOCATION;VALUE=URI;X-ADDRESS=Johannesfredsvägen 7\, 168
  69 Bromma;X-APPLE-RADIUS=72;X-TITLE=Klubbrummet:59.343881;17.969462
END:VEVENT
END:VCALENDAR