BEGIN:VCALENDAR
VERSION:2.0
PRODID:Events Booking
BEGIN:VEVENT
UID:69e4c9ac8b66d
SUMMARY:Uggletur till Norra Uppland
DESCRIPTION:Följ med på en Uggletur till Norra Uppland\, där vi också k
 ommer att få se många andra stora fåglar under helgen. Resan går freda
 g-söndag\, 10-12/5. Vi bor på en gård vid Forsmarks Bruk\, och åker bi
 l från Stockholm fredag eftermiddag\, 16.00\, Resan kostar 1100:-/pers. I
 nfo och anmälan till Linda Klein\, 070-771 6014\, senast 22 april. Läs m
 er om denna tur under fliken \"visa mer information\"&nbsp\; OBS! Turen ä
 r inställd pga för få anmälningar. Ev. gör vi ett nytt försök med d
 enna tur nästa år.
 
DTSTART:20190510T140000Z
DTEND:20190511T220000Z
DTSTAMP:20260419T142516Z
ORGANIZER;CN=Svenska Fjällklubben:MAILTO:joomla@fjallklubben.se
END:VEVENT
END:VCALENDAR