BEGIN:VCALENDAR
VERSION:2.0
PRODID:Events Booking
BEGIN:VEVENT
UID:69e4c91fc74c2
SUMMARY:Utskärgårdsturen våren 2019
DESCRIPTION:Följ med på en tälttur till de yttersta skären - i vårens 
 härligaste tid !Anmälan startar lördagen 16 mars 2019\, kl 10.00.Endast
  12 platser på denna tur.&nbsp\; Turen fulltecknad - väntelista finns.

  &nbsp\;
DTSTART:20190530T220000Z
DTEND:20190601T220000Z
DTSTAMP:20260419T142255Z
ORGANIZER;CN=Svenska Fjällklubben:MAILTO:joomla@fjallklubben.se
END:VEVENT
END:VCALENDAR