BEGIN:VCALENDAR
VERSION:2.0
PRODID:Events Booking
BEGIN:VEVENT
UID:69e4c8a0b44b7
SUMMARY:Utskärgårdsturen 2018
DESCRIPTION:Följ med ut till de yttersta skären i Stockholms skärgård -
  i vårens finaste tid!&nbsp\; Anmälan öppnar lördag 17/3 kl.10.00. Ken
 neth Jacobsson\, 070-317 71 05. Turen fulltecknad - väntelista finns.&nbs
 p\;
DTSTART:20180601T150000Z
DTEND:20180603T150000Z
DTSTAMP:20260419T142048Z
ORGANIZER;CN=Svenska Fjällklubben:MAILTO:joomla@fjallklubben.se
END:VEVENT
END:VCALENDAR