BEGIN:VCALENDAR
VERSION:2.0
PRODID:Events Booking
BEGIN:VEVENT
UID:69e4c97728778
SUMMARY:Välkommen till vårt årsmöte 2021
DESCRIPTION:Stockholmssektionens årsmöte genomförs i år som ett telefon
 möte den 16 februari kl. 19.00-21.00.&nbsp\;&nbsp\;På grund av rådande 
 pandemi\, träffas vi inte i år fysiskt med något tillhörande föredrag
 .Enligt Stockholmssektionens stadgar skall kallelsen sändas ut senast 10 
 dagar före årsmötet. Kallelse och dagordning skickas ut via mail\, och 
 finns också på sektionens hemsida. Verksamhetsberättelse och valberedni
 ngens förslag finns med i utskicket till medlemmarna. Om du önskar resul
 tat- och balansräkning\, samt revisionsberättelsen kontakta ordförande 
 på clasgeorgl@gmail.com&nbsp\;så får du dem med e-mail.Anmälan till å
 rsmötet - För att underlätta genomförandet av telefonmötet vill vi g
 ärna att du anmälerditt deltagande senast den 14 februari. Anmälan gör
 s till&nbsp\; asa.d.nilsson@hotmail.se&nbsp\; Har du frågor eller synpunk
 ter\, som du vill ta upp på punkt 18 - är du välkommen att före mötet
  maila dessa till e-mail adressen ovan.. Detta för att underlätta föred
 ragningen under mötet\, och för att styrelsen skall kunna bereda svar.Ö
 vrigt - vi vill uppmärksamma er på att val till valberedning sker på å
 rsmötet.StyrelsenClaes Ljungqvist ordf\,&nbsp\; Åsa Nilsson sekr\,&nbsp\
 ; Linda Klein kassör\,&nbsp\; Robert Edén säkerhetsansvarig\,&nbsp\;Gun
 nel Roman ledamot.Suppleanter Lars Gustafsson\,&nbsp\; Simona Höglund\,&n
 bsp\; Sonja PetterssonDagordning&nbsp\;för årsmötet hittar du under fli
 ken&nbsp\;\"visa mer information\"
 &nbsp\;
DTSTART:20210216T180000Z
DTEND:20210216T200000Z
DTSTAMP:20260419T142423Z
ORGANIZER;CN=Svenska Fjällklubben:MAILTO:joomla@fjallklubben.se
END:VEVENT
END:VCALENDAR