BEGIN:VCALENDAR
VERSION:2.0
PRODID:Events Booking
BEGIN:VEVENT
UID:69e4c9d4cedd4
SUMMARY:Vandring i Polska Karpaterna
DESCRIPTION:Mikael Johansson berättar och visar bilder från en vandringsr
 esa till polska Zacopane\, som ligger i bergs-kedjan Karpaterna.
DTSTART:20190124T180000Z
DTEND:20190124T203000Z
DTSTAMP:20260419T142556Z
ORGANIZER;CN=Svenska Fjällklubben:MAILTO:joomla@fjallklubben.se
END:VEVENT
END:VCALENDAR