BEGIN:VCALENDAR
VERSION:2.0
PRODID:Events Booking
BEGIN:VEVENT
UID:69e4ca71e227d
SUMMARY:Vandring med snöskor i säcken och på fötterna!
DESCRIPTION:Claes Ljungqvist visar video och bilder\, samt berättar om sin
 a vandringar i juni månad. Därefter vårt traditionella Luciafirande med
  kaffe\, glögg\, struvor och annat gott.
DTSTART:20191212T180000Z
DTEND:20191212T200000Z
DTSTAMP:20260419T142833Z
ORGANIZER;CN=Svenska Fjällklubben:MAILTO:joomla@fjallklubben.se
END:VEVENT
END:VCALENDAR