BEGIN:VCALENDAR
VERSION:2.0
PRODID:Events Booking
BEGIN:VEVENT
UID:69e4c9205d2b6
SUMMARY:Vandring på Teneriffa
DESCRIPTION:Våra sektionsmedlemmar Claes Ljungqvist\, Ellert Carlsson och 
 Björn Setterberg berättar och visar bilder från en vandring på Tenerif
 fa.
DTSTART:20181002T170000Z
DTSTAMP:20260419T142256Z
ORGANIZER;CN=Svenska Fjällklubben:MAILTO:joomla@fjallklubben.se
END:VEVENT
END:VCALENDAR