BEGIN:VCALENDAR
VERSION:2.0
PRODID:Events Booking
BEGIN:VEVENT
UID:69e4c925d7310
SUMMARY:Smultronställen i västra Padjelanta
DESCRIPTION:Vår medlem i Funäsdalen\, Hans Pettersson berättar och visar
  bilder från sina favoriter - längs norska gränsen&nbsp\;i västra Padj
 elanta - från Hellemobotn till Sulitelma. Hans har vandrat och besökt om
 rådet under tjugo års tid.Välkommen till klubbrummet Onsdagen 25/9\, kl
 . 19.00.
DTSTART:20190925T170000Z
DTEND:20190925T190000Z
DTSTAMP:20260419T142301Z
ORGANIZER;CN=Svenska Fjällklubben:MAILTO:joomla@fjallklubben.se
END:VEVENT
END:VCALENDAR