BEGIN:VCALENDAR
VERSION:2.0
PRODID:Events Booking
BEGIN:VEVENT
UID:69e4ca71e2286
SUMMARY:Vandringens dag - Djurgårdspromenad med paus vid Isbladskärret
DESCRIPTION:En höstpromenad på Kungliga Djurgården. Träffa fjällklubba
 re och medlemmar ur sektionsstyrelsen - samt kanske en och annan fågel !&
 nbsp\; Vi vandrar med start vid Djurgårdsbron till Isbladskärret och Wal
 de-marsudde\, och åter. För dem som önskar kan vandringen göras något
  kortare\, med hjälp av buss/båteller spårvagn.
DTSTART:20200911T220000Z
DTEND:20200911T220000Z
DTSTAMP:20260419T142833Z
ORGANIZER;CN=Svenska Fjällklubben:MAILTO:joomla@fjallklubben.se
END:VEVENT
END:VCALENDAR