BEGIN:VCALENDAR
VERSION:2.0
PRODID:Events Booking
BEGIN:VEVENT
UID:69e4c990f12a9
SUMMARY:Vår resa till Georgien hösten 2019 - INSTÄLLT !
DESCRIPTION:OBS! Detta program är inställt\, pga situationen med Coronavi
 ruset\,&nbsp\;men kan förhoppningsvisvara med i vårt höstprogram 2020.
DTSTART:20200331T170000Z
DTEND:20200331T190000Z
DTSTAMP:20260419T142448Z
ORGANIZER;CN=Svenska Fjällklubben:MAILTO:joomla@fjallklubben.se
END:VEVENT
END:VCALENDAR