BEGIN:VCALENDAR
VERSION:2.0
PRODID:Events Booking
BEGIN:VEVENT
UID:69e4ca04bcc72
SUMMARY:Våravslutning ute i det gröna
DESCRIPTION:Stockholmssektionen har inte våravslutningen på Fåfängan i 
 år. I stället ses vi i ett grönskande Årsta\,vid Årstalidens koloniom
 råde. Området ligger vackert beläget i utkanten av Årstaskogen. Ta med
  egen mat och dryck\, samt filt eller stol.&nbsp\;Föranmälan sker senast
  dagen innan\, alltså den 8 juni. Anmäl din ankomst till Åsa Nilsson -0
 70-486 5779. För gemensam promenad\; Uppsamling vid Tvärbanans hållplat
 s Årstafältet kl.17.45.
 &nbsp\;
DTSTART:20200608T220000Z
DTEND:20200608T220000Z
DTSTAMP:20260419T142644Z
ORGANIZER;CN=Svenska Fjällklubben:MAILTO:joomla@fjallklubben.se
END:VEVENT
END:VCALENDAR