BEGIN:VCALENDAR
VERSION:2.0
PRODID:Events Booking
BEGIN:VEVENT
UID:69e4ca47e8a31
SUMMARY:Våravslutning på Fåfängan
DESCRIPTION:Vi träffas en vårkväll på Fåfängan - på Södermalm i Sto
 ckholm. Här kan du köpa något att äta och dricka\, och dessutom njuta 
 av en av stadens tjusigaste utsikter. Välkommen från 17.30 och framåt.
DTSTART:20190611T153000Z
DTEND:20190611T190000Z
DTSTAMP:20260419T142751Z
ORGANIZER;CN=Svenska Fjällklubben:MAILTO:joomla@fjallklubben.se
END:VEVENT
END:VCALENDAR