BEGIN:VCALENDAR
VERSION:2.0
PRODID:Events Booking
BEGIN:VEVENT
UID:69e4c91fc5cc7
SUMMARY:Vårfåglar på Landsort
DESCRIPTION:Vi möter vårens fåglar på en dagstur till ön Öja – som&
 nbsp\;är skärgårdens sydligaste utpost. Vår sakkunnige guide är Heikk
 i Aalto. Öja/Landsort är numera ett av Skärgårdsstiftelsens&nbsp\;natu
 rreservat\, och har förutom en fantastisk utskärgårdsnatur –&nbsp\;oc
 kså en spännande försvarshistoria.
DTSTART:20180519T220000Z
DTEND:20180519T220000Z
DTSTAMP:20260419T142255Z
ORGANIZER;CN=Svenska Fjällklubben:MAILTO:joomla@fjallklubben.se
END:VEVENT
END:VCALENDAR