BEGIN:VCALENDAR
VERSION:2.0
PRODID:Events Booking
BEGIN:VEVENT
UID:69e4c910a0adf
SUMMARY:Vårvandring på Svartsö
DESCRIPTION:Vi gör en vårvandring på Svartsö\, i Stockholms mellersta s
 kärgård. Det blir en dagstur\, med ca 6 km promenad. Nu finns uppdaterat
  info med tidtabell mm för båten. Se fliken \"visa mer information\"
 &
 nbsp\;
DTSTART:20190428T063000Z
DTEND:20190428T160000Z
DTSTAMP:20260419T142240Z
ORGANIZER;CN=Svenska Fjällklubben:MAILTO:joomla@fjallklubben.se
END:VEVENT
END:VCALENDAR