BEGIN:VCALENDAR
VERSION:2.0
PRODID:Events Booking
BEGIN:VEVENT
UID:69e4ca31b9fcd
SUMMARY:Vårvinter skidåkning i Fjällnäs  - inställd !
DESCRIPTION:Denna tur är inställd 2021. Planeras att genomföras 24/4 - 1
 /5&nbsp\; 2022.
DTSTART:20210417T220000Z
DTEND:20210424T220000Z
DTSTAMP:20260419T142729Z
ORGANIZER;CN=Svenska Fjällklubben:MAILTO:joomla@fjallklubben.se
END:VEVENT
END:VCALENDAR