BEGIN:VCALENDAR
VERSION:2.0
PRODID:Events Booking
BEGIN:VEVENT
UID:69e4c8c22f901
SUMMARY:Vinter vandring Albysjön runt
DESCRIPTION:Vi vandrar Albysjön runt\, ca 8\,6 km - lördagen den 20 mars\
 , ledare Krister Jonsson.Samling vid parkeringen/busshållplatsen Alby Fri
 luftsgård\, kl. 10.00.&nbsp\;Det går att åka bil\, eller ta buss 873 fr
 ån Gullmarsplan mot Nyfors. Vi stannar och fikar efter halva sträckan.An
 mälan senast torsdagen den 18/3\, genom SMS eller telefon till 070-311 41
  10\, eller e-mail tillklubb30@hotmail.com&nbsp\;(lämna då också telefo
 n nummer.)Max antal deltagare enligt folkhälsomyndighetens rekommendation
 er.
DTSTART:20210320T090000Z
DTSTAMP:20260419T142122Z
ORGANIZER;CN=Svenska Fjällklubben:MAILTO:joomla@fjallklubben.se
END:VEVENT
END:VCALENDAR