BEGIN:VCALENDAR
VERSION:2.0
PRODID:Events Booking
BEGIN:VEVENT
UID:69e4ca47e8068
SUMMARY:Vilket härligt fjälliv!
DESCRIPTION:Nisse Engström är en av Fjällklubbens verkliga veteraner. Ko
 m och lyssna till hans berättelser\, och njut av hans fantastiska bilder 
 - från mer än 50 år av vandringar i fjällen.
DTSTART:20190313T180000Z
DTEND:20190313T203000Z
DTSTAMP:20260419T142751Z
ORGANIZER;CN=Svenska Fjällklubben:MAILTO:joomla@fjallklubben.se
END:VEVENT
END:VCALENDAR