BEGIN:VCALENDAR
VERSION:2.0
PRODID:Events Booking
BEGIN:VEVENT
UID:69e4d2871bb11
SUMMARY:Vintertälta på hemmaplan
DESCRIPTION:FULLBOKAD
 Har du blivit inspirerad av höstens snack om vinte
 rturer? Kanske till och med köpt lite prylar som behöver testas inför s
 äsongen? Eller vill prova ändringar i din setup? Även du som är helt n
 y på att tälta på vintern får gärna följa med!
 Kom ut och tälta p
 å vintern\, för första eller hundraförsta gången!
 Anmälan:&nbsp\;h
 ttps://forms.gle/TX5e8iTkr4bisbAv5
DTSTART:20260131T130000Z
DTEND:20260201T100000Z
DTSTAMP:20251115T114227Z
ORGANIZER;CN=Svenska Fjällklubben:MAILTO:joomla@fjallklubben.se
END:VEVENT
END:VCALENDAR