BEGIN:VCALENDAR
VERSION:2.0
PRODID:Events Booking
BEGIN:VEVENT
UID:69e4c5c130b25
SUMMARY:Outdoorfestivalen 23-24 maj
DESCRIPTION:SFK medverkar på Outdoorfestivalen på Djurgården i Stockholm
 \, 23-24 maj
 Välkomna!
DTSTART:20260522T220000Z
DTEND:20260523T220000Z
DTSTAMP:20260127T193124Z
ORGANIZER;CN=Svenska Fjällklubben:MAILTO:joomla@fjallklubben.se
END:VEVENT
END:VCALENDAR